BEGIN:VCALENDAR
VERSION:2.0
PRODID:Events Booking
BEGIN:VEVENT
UID:69e731f5caeed
SUMMARY:Les Trois Epées
DESCRIPTION:
LOCATION:Route des Plans\, Carros\, 06510 Provence-Alpes-Côte d'Azur\, Fra
 nce
DTSTART:20260223T193000Z
DTEND:20260223T230000Z
DTSTAMP:20250828T101212Z
ORGANIZER;CN=Secretaire AMLM:MAILTO:secretaire@amlm.fr
GEO:43.778268;7.20225
X-APPLE-STRUCTURED-LOCATION;VALUE=URI;X-ADDRESS=Route des Plans\, Carros\, 
 06510 Provence-Alpes-Côte d'Azur\, France;X-APPLE-RADIUS=72;X-TITLE=Templ
 e du castellet:43.778268;7.20225
END:VEVENT
END:VCALENDAR